BEGIN:VCALENDAR
VERSION:2.0
PRODID:-//Zemin Berlin - ECPv6.5.1.5//NONSGML v1.0//EN
CALSCALE:GREGORIAN
METHOD:PUBLISH
X-ORIGINAL-URL:https://zeminberlin.de
X-WR-CALDESC:Events for Zemin Berlin
REFRESH-INTERVAL;VALUE=DURATION:PT1H
X-Robots-Tag:noindex
X-PUBLISHED-TTL:PT1H
BEGIN:VTIMEZONE
TZID:UTC
BEGIN:STANDARD
TZOFFSETFROM:+0000
TZOFFSETTO:+0000
TZNAME:UTC
DTSTART:20230101T000000
END:STANDARD
END:VTIMEZONE
BEGIN:VEVENT
DTSTART;VALUE=DATE:20230825
DTEND;VALUE=DATE:20231027
DTSTAMP:20260421T175753
CREATED:20230907T204423Z
LAST-MODIFIED:20230907T210419Z
UID:21666-1692921600-1698364799@zeminberlin.de
SUMMARY:Marbling Workshop
DESCRIPTION:Join us at Zemin Art Space for an unforgettable event with Selim Kırılmaz & Efe Bahadır.
URL:https://zeminberlin.de/event/marbling-workshop/
LOCATION:Zemin Berlin\, Urbanstraße 3\, 10961\, Berlin\, 10961\, Germany
CATEGORIES:Event,Weekly Event
ATTACH;FMTTYPE=image/jpeg:https://zeminberlin.de/wp-content/uploads/2023/09/Flyer_Marblingworkshop.jpg
ORGANIZER;CN="Zemin Berlin":MAILTO:info@zeminberlin.de
END:VEVENT
BEGIN:VEVENT
DTSTART;TZID=UTC:20230830T200000
DTEND;TZID=UTC:20230830T230000
DTSTAMP:20260421T175754
CREATED:20230826T162558Z
LAST-MODIFIED:20230826T163126Z
UID:20650-1693425600-1693436400@zeminberlin.de
SUMMARY:Life Drawing Session
DESCRIPTION:Join us at Zemin Art Space for an unforgettable event with Selim Kırılmaz & Efe Bahadır.
URL:https://zeminberlin.de/event/life-drawing-session/
LOCATION:Zemin Berlin\, Urbanstraße 3\, 10961\, Berlin\, 10961\, Germany
CATEGORIES:Weekly Event
ATTACH;FMTTYPE=image/png:https://zeminberlin.de/wp-content/uploads/2023/08/Flyer_LifeDrawing-copy-2.png
ORGANIZER;CN="Zemin Berlin":MAILTO:info@zeminberlin.de
END:VEVENT
END:VCALENDAR