BEGIN:VCALENDAR
VERSION:2.0
PRODID:-//Zemin Berlin - ECPv6.5.1.5//NONSGML v1.0//EN
CALSCALE:GREGORIAN
METHOD:PUBLISH
X-WR-CALNAME:Zemin Berlin
X-ORIGINAL-URL:https://zeminberlin.de
X-WR-CALDESC:Events for Zemin Berlin
REFRESH-INTERVAL;VALUE=DURATION:PT1H
X-Robots-Tag:noindex
X-PUBLISHED-TTL:PT1H
BEGIN:VTIMEZONE
TZID:UTC
BEGIN:STANDARD
TZOFFSETFROM:+0000
TZOFFSETTO:+0000
TZNAME:UTC
DTSTART:20220101T000000
END:STANDARD
END:VTIMEZONE
BEGIN:VEVENT
DTSTART;TZID=UTC:20220702T190000
DTEND;TZID=UTC:20220702T200000
DTSTAMP:20260416T032314
CREATED:20230902T225339Z
LAST-MODIFIED:20240403T100010Z
UID:21348-1656788400-1656792000@zeminberlin.de
SUMMARY:Selut Concert
DESCRIPTION:Join us at Zemin Art Space for an unforgettable event with Selim Kırılmaz & Efe Bahadır.
URL:https://zeminberlin.de/event/selut-concert/
LOCATION:Zemin Berlin\, Urbanstraße 3\, 10961\, Berlin\, 10961\, Germany
CATEGORIES:Event
ATTACH;FMTTYPE=image/png:https://zeminberlin.de/wp-content/uploads/2024/04/Selut-concert-flyer-carusel.png
ORGANIZER;CN="Zemin Berlin":MAILTO:info@zeminberlin.de
END:VEVENT
END:VCALENDAR